BEGIN:VCALENDAR
VERSION:2.0
PRODID:-//jEvents 2.0 for Joomla//EN
CALSCALE:GREGORIAN
METHOD:PUBLISH
BEGIN:VEVENT
UID:558f3774f77c7983b85042157e7f6679
CATEGORIES:Ferien
CREATED:20251018T141226
SUMMARY:Weihnachtsferien
DESCRIPTION:<p>Weihnachstferien</p>
DTSTAMP:20260423T170735
DTSTART;VALUE=DATE:20251220
DTEND;VALUE=DATE:20260107
SEQUENCE:0
TRANSP:OPAQUE
END:VEVENT
END:VCALENDAR